Workbook
Name 事業の種類: 労務費率表!$C$5:$C$13

Sheet 【事業主控】     (このシートに入力してください)
A4: 様式第７号（第34条関係） （甲） | T4: 労 働 保 険
M5: 一括有期事業報告書 （建設の事業） | AO5: 事業主控
A9: 労 働 保 険 番 号 | I9: 府 県 | K9: 所掌 | L9: 管 轄 | N9: 基 幹 番 号 | T9: 枝 番 号 | AK9: 1 | AM9: 枚のうち | AO9: 1 | AQ9: 枚目
I10: ３ | J10: ４ | K10: １ | L10: ０ | M10: ３ | N10: ９ | O10: ４ | P10: ６ | Q10: １ | R10: １ | S10: ５
A13: 事 業 の 名 称 | I13: 事業場の所在地 | N13: 事 業 の 期 間 | U13: ① | X13: 請負金額の内訳 | AK13: ② | AM13: ③
U14: 請負代金の額 | Y14: 請負代金に 加算する額 | AC14: 請負代金から 控除する額 | AG14: 請負金額 | AK14: 労 務 費 率 | AM14: 賃 金 総 額
A16: 入力見本１ | I16: 府中市入力町 | N16: 6 | O16: 年 | P16: 4 | Q16: 月 | R16: 1 | S16: 日から | AB16: 円 | AF16: 円 | AR16: 円
N17: 7 | O17: 年 | P17: 3 | Q17: 月 | R17: 31 | S17: 日まで | U17: 555555 | AG17: =U17+Y17-AC17 -> 555555 | AK17: =IF(AG17>1,SUMIF(労務費率表!$C$5:$C$13,$E$26,労務費率表!$D$5:$D$13),"") -> 23 | AM17: =IF(AG17>1,ROUNDDOWN(AG17*AK17/100,0),"") -> 127777
A18: 入力見本２ | I18: 府中市見本町 | N18: 6 | O18: 年 | P18: 6 | Q18: 月 | R18: 1 | S18: 日から
N19: 6 | O19: 年 | P19: 12 | Q19: 月 | R19: 1 | S19: 日まで | U19: 333333 | AG19: =U19+Y19-AC19 -> 333333 | AK19: =IF(AG19>1,SUMIF(労務費率表!$C$5:$C$13,$E$26,労務費率表!$D$5:$D$13),"") -> 23 | AM19: =IF(AG19>1,ROUNDDOWN(AG19*AK19/100,0),"") -> 76666
O20: 年 | Q20: 月 | S20: 日から
O21: 年 | Q21: 月 | S21: 日まで | AG21: =U21+Y21-AC21 -> 0 | AK21: =IF(AG21>1,SUMIF(労務費率表!$C$5:$C$13,$E$26,労務費率表!$D$5:$D$13),"") | AM21: =IF(AG21>1,ROUNDDOWN(AG21*AK21/100,0),"")
O22: 年 | Q22: 月 | S22: 日から
O23: 年 | Q23: 月 | S23: 日まで | AG23: =U23+Y23-AC23 -> 0 | AK23: =IF(AG23>1,SUMIF(労務費率表!$C$5:$C$13,$E$26,労務費率表!$D$5:$D$13),"") | AM23: =IF(AG23>1,ROUNDDOWN(AG23*AK23/100,0),"")
O24: 年 | Q24: 月 | S24: 日から
O25: 年 | Q25: 月 | S25: 日まで | AG25: =U25+Y25-AC25 -> 0 | AK25: =IF(AG25>1,SUMIF(労務費率表!$C$5:$C$13,$E$26,労務費率表!$D$5:$D$13),"") | AM25: =IF(AG25>1,ROUNDDOWN(AG25*AK25/100,0),"")
A26: 事業の種類 | E26: 37 その他の建設事業 | N26: 計
U27: =U17+U19+U21+U23+U25 -> 888888 | Y27: =Y17+Y19+Y21+Y23+Y25 -> 0 | AC27: =AC17+AC19+AC21+AC23+AC25 -> 0 | AG27: =AG17+AG19+AG21+AG23+AG25 -> 888888 | AM27: =SUM(AM17:AQ25) -> 204443
C28: 前年度中（保険関係が消滅した日まで）に廃止又は終了があったそれぞれの事業の明細を上記のとおり報告します。
AH29: 郵便番号（ | AL29: - | AR29: )
C30: 8 | E30: 年 | H30: 月 | K30: 日 | AH30: 電話番号（ | AK30: - | AN30: - | AR30: )
Z31: 住 所
W32: 事 業 主
C33: 広島 | G33: 労働局労働保険特別会計歳入徴収官 殿 | Z33: 氏 名
AC34: （法人のときはその名称及び代表者の氏名）
C35: 〔注意〕 | Z35: 社会保険 労務士 記載欄 | AB35: 作 成 年 月 日 ・ 提 出 代 行 者 ・ 事務代理者の表示 | AI35: 氏名 | AO35: 電話番号
C36: 社会保険労務士記載欄は、この報告書を社会保険労務士が作成した場合のみ記載すること。
A41: 様式第７号（第34条関係） （甲） 〔別紙〕
AO42: 事業主控
A46: 労 働 保 険 番 号 | I46: 府 県 | K46: 所掌 | L46: 管 轄 | N46: 基 幹 番 号 | T46: 枝 番 号 | AK46: =$AK$9 -> 1 | AM46: 枚のうち | AO46: 2 | AQ46: 枚目
I47: =I10 -> ３ | J47: =J10 -> ４ | K47: =K10 -> １ | L47: =L10 -> ０ | M47: =M10 -> ３ | N47: =N10 -> ９ | O47: =O10 -> ４ | P47: =P10 -> ６ | ... V47: =V10 -> 0
A50: 事 業 の 名 称 | I50: 事業場の所在地 | N50: 事 業 の 期 間 | U50: ① | X50: 請負金額の内訳 | AK50: ② | AM50: ③
U51: 請負代金の額 | Y51: 請負代金に 加算する額 | AC51: 請負代金から 控除する額 | AG51: 請負金額 | AK51: 労 務 比 率 | AM51: 賃 金 総 額
O53: 年 | Q53: 月 | S53: 日から | X53: 円 | AB53: 円 | AF53: 円 | AR53: 円
O54: 年 | Q54: 月 | S54: 日まで | AG54: =U54+Y54-AC54 -> 0 | AK54: =IF(AG54>1,SUMIF(労務費率表!$C$5:$C$13,$E$71,労務費率表!$D$5:$D$13),"") | AM54: =IF(AG54>1,ROUNDDOWN(AG54*AK54/100,0),"")
O55: 年 | Q55: 月 | S55: 日から
O56: 年 | Q56: 月 | S56: 日まで | AG56: =U56+Y56-AC56 -> 0 | AK56: =IF(AG56>1,SUMIF(労務費率表!$C$5:$C$13,$E$71,労務費率表!$D$5:$D$13),"") | AM56: =IF(AG56>1,ROUNDDOWN(AG56*AK56/100,0),"")
O57: 年 | Q57: 月 | S57: 日から
O58: 年 | Q58: 月 | S58: 日まで | AG58: =U58+Y58-AC58 -> 0 | AK58: =IF(AG58>1,SUMIF(労務費率表!$C$5:$C$13,$E$71,労務費率表!$D$5:$D$13),"") | AM58: =IF(AG58>1,ROUNDDOWN(AG58*AK58/100,0),"")
O59: 年 | Q59: 月 | S59: 日から
O60: 年 | Q60: 月 | S60: 日まで | AG60: =U60+Y60-AC60 -> 0 | AK60: =IF(AG60>1,SUMIF(労務費率表!$C$5:$C$13,$E$71,労務費率表!$D$5:$D$13),"") | AM60: =IF(AG60>1,ROUNDDOWN(AG60*AK60/100,0),"")
O61: 年 | Q61: 月 | S61: 日から
O62: 年 | Q62: 月 | S62: 日まで | AG62: =U62+Y62-AC62 -> 0 | AK62: =IF(AG62>1,SUMIF(労務費率表!$C$5:$C$13,$E$71,労務費率表!$D$5:$D$13),"") | AM62: =IF(AG62>1,ROUNDDOWN(AG62*AK62/100,0),"")
O63: 年 | Q63: 月 | S63: 日から
O64: 年 | Q64: 月 | S64: 日まで | AG64: =U64+Y64-AC64 -> 0 | AK64: =IF(AG64>1,SUMIF(労務費率表!$C$5:$C$13,$E$71,労務費率表!$D$5:$D$13),"") | AM64: =IF(AG64>1,ROUNDDOWN(AG64*AK64/100,0),"")
O65: 年 | Q65: 月 | S65: 日から
O66: 年 | Q66: 月 | S66: 日まで | AG66: =U66+Y66-AC66 -> 0 | AK66: =IF(AG66>1,SUMIF(労務費率表!$C$5:$C$13,$E$71,労務費率表!$D$5:$D$13),"") | AM66: =IF(AG66>1,ROUNDDOWN(AG66*AK66/100,0),"")
O67: 年 | Q67: 月 | S67: 日から
O68: 年 | Q68: 月 | S68: 日まで | AG68: =U68+Y68-AC68 -> 0 | AK68: =IF(AG68>1,SUMIF(労務費率表!$C$5:$C$13,$E$71,労務費率表!$D$5:$D$13),"") | AM68: =IF(AG68>1,ROUNDDOWN(AG68*AK68/100,0),"")
O69: 年 | Q69: 月 | S69: 日から
O70: 年 | Q70: 月 | S70: 日まで | AG70: =U70+Y70-AC70 -> 0 | AK70: =IF(AG70>1,SUMIF(労務費率表!$C$5:$C$13,$E$71,労務費率表!$D$5:$D$13),"") | AM70: =IF(AG70>1,ROUNDDOWN(AG70*AK70/100,0),"")
A71: 事業の種類 | E71: 35 建築事業 （既設建築物設備工事業を除く） | N71: 計
U72: =U54+U56+U58+U60+U62+U64+U66+U68+U70-U71 -> 0 | Y72: =Y54+Y56+Y58+Y60+Y62+Y64+Y66+Y68+Y70 -> 0 | AC72: =AC54+AC56+AC58+AC60+AC62+AC64+AC66+AC68+AC70 -> 0 | AG72: =AG54+AG56+AG58+AG60+AG62+AG64+AG66+AG68+AG70 -> 0 | AM72: =SUM(AM54:AQ70) -> 0
A74: 様式第７号（第34条関係） （甲） 〔別紙〕
AO75: 事業主控
A79: 労 働 保 険 番 号 | I79: 府 県 | K79: 所掌 | L79: 管 轄 | N79: 基 幹 番 号 | T79: 枝 番 号 | AK79: =$AK$9 -> 1 | AM79: 枚のうち | AO79: 3 | AQ79: 枚目
I80: =I10 -> ３ | J80: =J10 -> ４ | K80: =K10 -> １ | L80: =L10 -> ０ | M80: =M10 -> ３ | N80: =N10 -> ９ | O80: =O10 -> ４ | P80: =P10 -> ６ | ... V80: =V10 -> 0
A83: 事 業 の 名 称 | I83: 事業場の所在地 | N83: 事 業 の 期 間 | U83: ① | X83: 請負金額の内訳 | AK83: ② | AM83: ③
U84: 請負代金の額 | Y84: 請負代金に 加算する額 | AC84: 請負代金から 控除する額 | AG84: 請負金額 | AK84: 労 務 比 率 | AM84: 賃 金 総 額
O86: 年 | Q86: 月 | S86: 日から | X86: 円 | AB86: 円 | AF86: 円 | AR86: 円
O87: 年 | Q87: 月 | S87: 日まで | AG87: =U87+Y87-AC87 -> 0 | AK87: =IF(AG87>1,SUMIF(労務費率表!$C$5:$C$13,$E$104,労務費率表!$D$5:$D$13),"") | AM87: =IF(AG87>1,ROUNDDOWN(AG87*AK87/100,0),"")
O88: 年 | Q88: 月 | S88: 日から
O89: 年 | Q89: 月 | S89: 日まで | AG89: =U89+Y89-AC89 -> 0 | AK89: =IF(AG89>1,SUMIF(労務費率表!$C$5:$C$13,$E$104,労務費率表!$D$5:$D$13),"") | AM89: =IF(AG89>1,ROUNDDOWN(AG89*AK89/100,0),"")
O90: 年 | Q90: 月 | S90: 日から
O91: 年 | Q91: 月 | S91: 日まで | AG91: =U91+Y91-AC91 -> 0 | AK91: =IF(AG91>1,SUMIF(労務費率表!$C$5:$C$13,$E$104,労務費率表!$D$5:$D$13),"") | AM91: =IF(AG91>1,ROUNDDOWN(AG91*AK91/100,0),"")
O92: 年 | Q92: 月 | S92: 日から
O93: 年 | Q93: 月 | S93: 日まで | AG93: =U93+Y93-AC93 -> 0 | AK93: =IF(AG93>1,SUMIF(労務費率表!$C$5:$C$13,$E$104,労務費率表!$D$5:$D$13),"") | AM93: =IF(AG93>1,ROUNDDOWN(AG93*AK93/100,0),"")
O94: 年 | Q94: 月 | S94: 日から
O95: 年 | Q95: 月 | S95: 日まで | AG95: =U95+Y95-AC95 -> 0 | AK95: =IF(AG95>1,SUMIF(労務費率表!$C$5:$C$13,$E$104,労務費率表!$D$5:$D$13),"") | AM95: =IF(AG95>1,ROUNDDOWN(AG95*AK95/100,0),"")
O96: 年 | Q96: 月 | S96: 日から
O97: 年 | Q97: 月 | S97: 日まで | AG97: =U97+Y97-AC97 -> 0 | AK97: =IF(AG97>1,SUMIF(労務費率表!$C$5:$C$13,$E$104,労務費率表!$D$5:$D$13),"") | AM97: =IF(AG97>1,ROUNDDOWN(AG97*AK97/100,0),"")
O98: 年 | Q98: 月 | S98: 日から
O99: 年 | Q99: 月 | S99: 日まで | AG99: =U99+Y99-AC99 -> 0 | AK99: =IF(AG99>1,SUMIF(労務費率表!$C$5:$C$13,$E$104,労務費率表!$D$5:$D$13),"") | AM99: =IF(AG99>1,ROUNDDOWN(AG99*AK99/100,0),"")
O100: 年 | Q100: 月 | S100: 日から
O101: 年 | Q101: 月 | S101: 日まで | AG101: =U101+Y101-AC101 -> 0 | AK101: =IF(AG101>1,SUMIF(労務費率表!$C$5:$C$13,$E$104,労務費率表!$D$5:$D$13),"") | AM101: =IF(AG101>1,ROUNDDOWN(AG101*AK101/100,0),"")
O102: 年 | Q102: 月 | S102: 日から
O103: 年 | Q103: 月 | S103: 日まで | AG103: =U103+Y103-AC103 -> 0 | AK103: =IF(AG103>1,SUMIF(労務費率表!$C$5:$C$13,$E$104,労務費率表!$D$5:$D$13),"") | AM103: =IF(AG103>1,ROUNDDOWN(AG103*AK103/100,0),"")
A104: 事業の種類 | E104: 37 その他の建設事業 | N104: 計
U105: =U87+U89+U91+U93+U95+U97+U99+U101+U103-U104 -> 0 | Y105: =Y87+Y89+Y91+Y93+Y95+Y97+Y99+Y101+Y103 -> 0 | AC105: =AC87+AC89+AC91+AC93+AC95+AC97+AC99+AC101+AC103 -> 0 | AG105: =AG87+AG89+AG91+AG93+AG95+AG97+AG99+AG101+AG103 -> 0 | AM105: =SUM(AM87:AQ104) -> 0
A108: 様式第７号（第34条関係） （甲） 〔別紙〕
AO109: 事業主控
A113: 労 働 保 険 番 号 | I113: 府 県 | K113: 所掌 | L113: 管 轄 | N113: 基 幹 番 号 | T113: 枝 番 号 | AK113: =$AK$9 -> 1 | AM113: 枚のうち | AO113: 4 | AQ113: 枚目
I114: =I10 -> ３ | J114: =J10 -> ４ | K114: =K10 -> １ | L114: =L10 -> ０ | M114: =M10 -> ３ | N114: =N10 -> ９ | O114: =O10 -> ４ | P114: =P10 -> ６ | ... V114: =V10 -> 0
A117: 事 業 の 名 称 | I117: 事業場の所在地 | N117: 事 業 の 期 間 | U117: ① | X117: 請負金額の内訳 | AK117: ② | AM117: ③
U118: 請負代金の額 | Y118: 請負代金に 加算する額 | AC118: 請負代金から 控除する額 | AG118: 請負金額 | AK118: 労 務 比 率 | AM118: 賃 金 総 額
O120: 年 | Q120: 月 | S120: 日から | X120: 円 | AB120: 円 | AF120: 円 | AR120: 円
O121: 年 | Q121: 月 | S121: 日まで | AG121: =U121+Y121-AC121 -> 0 | AK121: =IF(AG121>1,SUMIF(労務費率表!$C$5:$C$13,$E$138,労務費率表!$D$5:$D$13),"") | AM121: =IF(AG121>1,ROUNDDOWN(AG121*AK121/100,0),"")
O122: 年 | Q122: 月 | S122: 日から
O123: 年 | Q123: 月 | S123: 日まで | AG123: =U123+Y123-AC123 -> 0 | AK123: =IF(AG123>1,SUMIF(労務費率表!$C$5:$C$13,$E$138,労務費率表!$D$5:$D$13),"") | AM123: =IF(AG123>1,ROUNDDOWN(AG123*AK123/100,0),"")
O124: 年 | Q124: 月 | S124: 日から
O125: 年 | Q125: 月 | S125: 日まで | AG125: =U125+Y125-AC125 -> 0 | AK125: =IF(AG125>1,SUMIF(労務費率表!$C$5:$C$13,$E$138,労務費率表!$D$5:$D$13),"") | AM125: =IF(AG125>1,ROUNDDOWN(AG125*AK125/100,0),"")
O126: 年 | Q126: 月 | S126: 日から
O127: 年 | Q127: 月 | S127: 日まで | AG127: =U127+Y127-AC127 -> 0 | AK127: =IF(AG127>1,SUMIF(労務費率表!$C$5:$C$13,$E$138,労務費率表!$D$5:$D$13),"") | AM127: =IF(AG127>1,ROUNDDOWN(AG127*AK127/100,0),"")
O128: 年 | Q128: 月 | S128: 日から
O129: 年 | Q129: 月 | S129: 日まで | AG129: =U129+Y129-AC129 -> 0 | AK129: =IF(AG129>1,SUMIF(労務費率表!$C$5:$C$13,$E$138,労務費率表!$D$5:$D$13),"") | AM129: =IF(AG129>1,ROUNDDOWN(AG129*AK129/100,0),"")
O130: 年 | Q130: 月 | S130: 日から
O131: 年 | Q131: 月 | S131: 日まで | AG131: =U131+Y131-AC131 -> 0 | AK131: =IF(AG131>1,SUMIF(労務費率表!$C$5:$C$13,$E$138,労務費率表!$D$5:$D$13),"") | AM131: =IF(AG131>1,ROUNDDOWN(AG131*AK131/100,0),"")
O132: 年 | Q132: 月 | S132: 日から
O133: 年 | Q133: 月 | S133: 日まで | AG133: =U133+Y133-AC133 -> 0 | AK133: =IF(AG133>1,SUMIF(労務費率表!$C$5:$C$13,$E$138,労務費率表!$D$5:$D$13),"") | AM133: =IF(AG133>1,ROUNDDOWN(AG133*AK133/100,0),"")
O134: 年 | Q134: 月 | S134: 日から
...

Sheet 【提出用】　事務組合に提出する様式
A4: 様式第７号（第34条関係） （甲） | T4: 労 働 保 険
L5: 一括有期事業報告書 （建設の事業） | AO5: 提出用
A9: 労 働 保 険 番 号 | I9: 府 県 | K9: 所掌 | L9: 管 轄 | N9: 基 幹 番 号 | T9: 枝 番 号 | AK9: ='【事業主控】 (このシートに入力してください)'!AK9 -> 1 | AM9: 枚のうち | AO9: 1 | AQ9: 枚目
I10: ='【事業主控】 (このシートに入力してください)'!I10 -> ３ | J10: ='【事業主控】 (このシートに入力してください)'!J10 -> ４ | K10: ='【事業主控】 (このシートに入力してください)'!K10 -> １ | L10: ='【事業主控】 (このシートに入力してください)'!L10 -> ０ | M10: ='【事業主控】 (このシートに入力してください)'!M10 -> ３ | N10: ='【事業主控】 (このシートに入力してください)'!N10 -> ９ | O10: ='【事業主控】 (このシートに入力してください)'!O10 -> ４ | P10: ='【事業主控】 (このシートに入力してください)'!P10 -> ６ | ... S10: ='【事業主控】 (このシートに入力してください)'!S10 -> ５ | T10: ='【事業主控】 (このシートに入力してください)'!T10:T12 -> 0 | U10: ='【事業主控】 (このシートに入力してください)'!U10:U12 -> 0 | V10: ='【事業主控】 (このシートに入力してください)'!V10:V12 -> 0
A13: 事 業 の 名 称 | I13: 事業場の所在地 | N13: 事 業 の 期 間 | U13: ① | X13: 請負金額の内訳 | AK13: ② | AM13: ③
U14: 請負代金の額 | Y14: 請負代金に 加算する額 | AC14: 請負代金から 控除する額 | AG14: 請負金額 | AK14: 労 務 費 率 | AM14: 賃 金 総 額
A16: ='【事業主控】 (このシートに入力してください)'!A16 -> 入力見本１ | I16: ='【事業主控】 (このシートに入力してください)'!I16:M17 -> 府中市入力町 | N16: ='【事業主控】 (このシートに入力してください)'!N16 -> 6 | O16: 年 | P16: ='【事業主控】 (このシートに入力してください)'!P16 -> 4 | Q16: 月 | R16: ='【事業主控】 (このシートに入力してください)'!R16 -> 1 | S16: 日から | AB16: 円 | AF16: 円 | AR16: 円
N17: ='【事業主控】 (このシートに入力してください)'!N17 -> 7 | O17: 年 | P17: ='【事業主控】 (このシートに入力してください)'!P17 -> 3 | Q17: 月 | R17: ='【事業主控】 (このシートに入力してください)'!R17 -> 31 | S17: 日まで | U17: ='【事業主控】 (このシートに入力してください)'!U17 -> 555555 | Y17: ='【事業主控】 (このシートに入力してください)'!Y17 -> 0 | AC17: ='【事業主控】 (このシートに入力してください)'!AC17 -> 0 | AG17: ='【事業主控】 (このシートに入力してください)'!AG17 -> 555555 | AK17: ='【事業主控】 (このシートに入力してください)'!AK17 -> 23 | AM17: ='【事業主控】 (このシートに入力してください)'!AM17 -> 127777
A18: ='【事業主控】 (このシートに入力してください)'!A18 -> 入力見本２ | I18: ='【事業主控】 (このシートに入力してください)'!I18:M19 -> 府中市見本町 | N18: ='【事業主控】 (このシートに入力してください)'!N18 -> 6 | O18: 年 | P18: ='【事業主控】 (このシートに入力してください)'!P18 -> 6 | Q18: 月 | R18: ='【事業主控】 (このシートに入力してください)'!R18 -> 1 | S18: 日から
N19: ='【事業主控】 (このシートに入力してください)'!N19 -> 6 | O19: 年 | P19: ='【事業主控】 (このシートに入力してください)'!P19 -> 12 | Q19: 月 | R19: ='【事業主控】 (このシートに入力してください)'!R19 -> 1 | S19: 日まで | U19: ='【事業主控】 (このシートに入力してください)'!U19 -> 333333 | Y19: ='【事業主控】 (このシートに入力してください)'!Y19 -> 0 | AC19: ='【事業主控】 (このシートに入力してください)'!AC19 -> 0 | AG19: ='【事業主控】 (このシートに入力してください)'!AG19 -> 333333 | AK19: ='【事業主控】 (このシートに入力してください)'!AK19 -> 23 | AM19: ='【事業主控】 (このシートに入力してください)'!AM19 -> 76666
A20: ='【事業主控】 (このシートに入力してください)'!A20 -> 0 | I20: ='【事業主控】 (このシートに入力してください)'!I20:M21 -> 0 | N20: ='【事業主控】 (このシートに入力してください)'!N20 -> 0 | O20: 年 | P20: ='【事業主控】 (このシートに入力してください)'!P20 -> 0 | Q20: 月 | R20: ='【事業主控】 (このシートに入力してください)'!R20 -> 0 | S20: 日から
N21: ='【事業主控】 (このシートに入力してください)'!N21 -> 0 | O21: 年 | P21: ='【事業主控】 (このシートに入力してください)'!P21 -> 0 | Q21: 月 | R21: ='【事業主控】 (このシートに入力してください)'!R21 -> 0 | S21: 日まで | U21: ='【事業主控】 (このシートに入力してください)'!U21 -> 0 | Y21: ='【事業主控】 (このシートに入力してください)'!Y21 -> 0 | AC21: ='【事業主控】 (このシートに入力してください)'!AC21 -> 0 | AG21: ='【事業主控】 (このシートに入力してください)'!AG21 -> 0 | AK21: ='【事業主控】 (このシートに入力してください)'!AK21 | AM21: ='【事業主控】 (このシートに入力してください)'!AM21
A22: ='【事業主控】 (このシートに入力してください)'!A22 -> 0 | I22: ='【事業主控】 (このシートに入力してください)'!I22:M23 -> 0 | N22: ='【事業主控】 (このシートに入力してください)'!N22 -> 0 | O22: 年 | P22: ='【事業主控】 (このシートに入力してください)'!P22 -> 0 | Q22: 月 | R22: ='【事業主控】 (このシートに入力してください)'!R22 -> 0 | S22: 日から
N23: ='【事業主控】 (このシートに入力してください)'!N23 -> 0 | O23: 年 | P23: ='【事業主控】 (このシートに入力してください)'!P23 -> 0 | Q23: 月 | R23: ='【事業主控】 (このシートに入力してください)'!R23 -> 0 | S23: 日まで | U23: ='【事業主控】 (このシートに入力してください)'!U23 -> 0 | Y23: ='【事業主控】 (このシートに入力してください)'!Y23 -> 0 | AC23: ='【事業主控】 (このシートに入力してください)'!AC23 -> 0 | AG23: ='【事業主控】 (このシートに入力してください)'!AG23 -> 0 | AK23: ='【事業主控】 (このシートに入力してください)'!AK23 | AM23: ='【事業主控】 (このシートに入力してください)'!AM23
A24: ='【事業主控】 (このシートに入力してください)'!A24 -> 0 | I24: ='【事業主控】 (このシートに入力してください)'!I24:M25 -> 0 | N24: ='【事業主控】 (このシートに入力してください)'!N24 -> 0 | O24: 年 | P24: ='【事業主控】 (このシートに入力してください)'!P24 -> 0 | Q24: 月 | R24: ='【事業主控】 (このシートに入力してください)'!R24 -> 0 | S24: 日から
N25: ='【事業主控】 (このシートに入力してください)'!N25 -> 0 | O25: 年 | P25: ='【事業主控】 (このシートに入力してください)'!P25 -> 0 | Q25: 月 | R25: ='【事業主控】 (このシートに入力してください)'!R25 -> 0 | S25: 日まで | U25: ='【事業主控】 (このシートに入力してください)'!U25 -> 0 | Y25: ='【事業主控】 (このシートに入力してください)'!Y25 -> 0 | AC25: ='【事業主控】 (このシートに入力してください)'!AC25 -> 0 | AG25: ='【事業主控】 (このシートに入力してください)'!AG25 -> 0 | AK25: ='【事業主控】 (このシートに入力してください)'!AK25 | AM25: ='【事業主控】 (このシートに入力してください)'!AM25
A26: 事業の種類 | E26: ='【事業主控】 (このシートに入力してください)'!E26:M27 -> 37 その他の建設事業 | N26: 計
U27: =U17+U19+U21+U23+U25 -> 888888 | Y27: =Y17+Y19+Y21+Y23+Y25 -> 0 | AC27: =AC17+AC19+AC21+AC23+AC25 -> 0 | AG27: ='【事業主控】 (このシートに入力してください)'!AG27 -> 888888 | AM27: ='【事業主控】 (このシートに入力してください)'!AM27 -> 204443
C28: 前年度中（保険関係が消滅した日まで）に廃止又は終了があったそれぞれの事業の明細を上記のとおり報告します。
AH29: 郵便番号（ | AI29: ='【事業主控】 (このシートに入力してください)'!AI29 -> 0 | AL29: - | AN29: ='【事業主控】 (このシートに入力してください)'!AN29 -> 0 | AR29: )
C30: ='【事業主控】 (このシートに入力してください)'!C30 -> 8 | E30: 年 | F30: ='【事業主控】 (このシートに入力してください)'!F30 -> 0 | H30: 月 | I30: ='【事業主控】 (このシートに入力してください)'!I30 -> 0 | K30: 日 | AH30: 電話番号（ | AI30: ='【事業主控】 (このシートに入力してください)'!AI30 -> 0 | AK30: - | AL30: ='【事業主控】 (このシートに入力してください)'!AL30 -> 0 | AN30: - | AO30: ='【事業主控】 (このシートに入力してください)'!AO30 -> 0 | AR30: )
Z31: 住 所 | AB31: ='【事業主控】 (このシートに入力してください)'!AB31 -> 0
W32: 事 業 主 | AB32: ='【事業主控】 (このシートに入力してください)'!AB32 -> 0
C33: 広島 | G33: 労働局労働保険特別会計歳入徴収官 殿 | Z33: 氏 名 | AB33: ='【事業主控】 (このシートに入力してください)'!AB33 -> 0
AC34: （法人のときはその名称及び代表者の氏名）
C35: 〔注意〕 | Z35: 社会保険 労務士 記載欄 | AB35: 作 成 年 月 日 ・ 提 出 代 行 者 ・ 事務代理者の表示 | AI35: 氏名 | AO35: 電話番号
C36: 社会保険労務士記載欄は、この報告書を社会保険労務士が作成した場合のみ記載すること。
A41: 様式第７号（第34条関係） （甲） 〔別紙〕
AO42: 提出用
A46: 労 働 保 険 番 号 | I46: 府 県 | K46: 所掌 | L46: 管 轄 | N46: 基 幹 番 号 | T46: 枝 番 号 | AK46: ='【事業主控】 (このシートに入力してください)'!AK46 -> 1 | AM46: 枚のうち | AO46: 2 | AQ46: 枚目
I47: =I10 -> ３ | J47: =J10 -> ４ | K47: =K10 -> １ | L47: =L10 -> ０ | M47: =M10 -> ３ | N47: =N10 -> ９ | O47: =O10 -> ４ | P47: =P10 -> ６ | ... V47: =V10 -> 0
A50: 事 業 の 名 称 | I50: 事業場の所在地 | N50: 事 業 の 期 間 | U50: ① | X50: 請負金額の内訳 | AK50: ② | AM50: ③
U51: 請負代金の額 | Y51: 請負代金に 加算する額 | AC51: 請負代金から 控除する額 | AG51: 請負金額 | AK51: 労 務 比 率 | AM51: 賃 金 総 額
A53: ='【事業主控】 (このシートに入力してください)'!A53 -> 0 | I53: ='【事業主控】 (このシートに入力してください)'!I53 -> 0 | N53: ='【事業主控】 (このシートに入力してください)'!N53 -> 0 | O53: 年 | P53: ='【事業主控】 (このシートに入力してください)'!P53 -> 0 | Q53: 月 | R53: ='【事業主控】 (このシートに入力してください)'!R53 -> 0 | S53: 日から | X53: 円 | AB53: 円 | AF53: 円 | AR53: 円
N54: ='【事業主控】 (このシートに入力してください)'!N54 -> 0 | O54: 年 | P54: ='【事業主控】 (このシートに入力してください)'!P54 -> 0 | Q54: 月 | R54: ='【事業主控】 (このシートに入力してください)'!R54 -> 0 | S54: 日まで | U54: ='【事業主控】 (このシートに入力してください)'!U54 -> 0 | Y54: ='【事業主控】 (このシートに入力してください)'!Y54 -> 0 | AC54: ='【事業主控】 (このシートに入力してください)'!AC54 -> 0 | AG54: ='【事業主控】 (このシートに入力してください)'!AG54 -> 0 | AK54: ='【事業主控】 (このシートに入力してください)'!AK54 | AM54: ='【事業主控】 (このシートに入力してください)'!AM54
A55: ='【事業主控】 (このシートに入力してください)'!A55 -> 0 | I55: ='【事業主控】 (このシートに入力してください)'!I55 -> 0 | N55: ='【事業主控】 (このシートに入力してください)'!N55 -> 0 | O55: 年 | P55: ='【事業主控】 (このシートに入力してください)'!P55 -> 0 | Q55: 月 | R55: ='【事業主控】 (このシートに入力してください)'!R55 -> 0 | S55: 日から
N56: ='【事業主控】 (このシートに入力してください)'!N56 -> 0 | O56: 年 | P56: ='【事業主控】 (このシートに入力してください)'!P56 -> 0 | Q56: 月 | R56: ='【事業主控】 (このシートに入力してください)'!R56 -> 0 | S56: 日まで | U56: ='【事業主控】 (このシートに入力してください)'!U56 -> 0 | Y56: ='【事業主控】 (このシートに入力してください)'!Y56 -> 0 | AC56: ='【事業主控】 (このシートに入力してください)'!AC56 -> 0 | AG56: ='【事業主控】 (このシートに入力してください)'!AG56 -> 0 | AK56: ='【事業主控】 (このシートに入力してください)'!AK56 | AM56: ='【事業主控】 (このシートに入力してください)'!AM56
A57: ='【事業主控】 (このシートに入力してください)'!A57 -> 0 | I57: ='【事業主控】 (このシートに入力してください)'!I57 -> 0 | N57: ='【事業主控】 (このシートに入力してください)'!N57 -> 0 | O57: 年 | P57: ='【事業主控】 (このシートに入力してください)'!P57 -> 0 | Q57: 月 | R57: ='【事業主控】 (このシートに入力してください)'!R57 -> 0 | S57: 日から
N58: ='【事業主控】 (このシートに入力してください)'!N58 -> 0 | O58: 年 | P58: ='【事業主控】 (このシートに入力してください)'!P58 -> 0 | Q58: 月 | R58: ='【事業主控】 (このシートに入力してください)'!R58 -> 0 | S58: 日まで | U58: ='【事業主控】 (このシートに入力してください)'!U58 -> 0 | Y58: ='【事業主控】 (このシートに入力してください)'!Y58 -> 0 | AC58: ='【事業主控】 (このシートに入力してください)'!AC58 -> 0 | AG58: ='【事業主控】 (このシートに入力してください)'!AG58 -> 0 | AK58: ='【事業主控】 (このシートに入力してください)'!AK58 | AM58: ='【事業主控】 (このシートに入力してください)'!AM58
A59: ='【事業主控】 (このシートに入力してください)'!A59 -> 0 | I59: ='【事業主控】 (このシートに入力してください)'!I59 -> 0 | N59: ='【事業主控】 (このシートに入力してください)'!N59 -> 0 | O59: 年 | P59: ='【事業主控】 (このシートに入力してください)'!P59 -> 0 | Q59: 月 | R59: ='【事業主控】 (このシートに入力してください)'!R59 -> 0 | S59: 日から
N60: ='【事業主控】 (このシートに入力してください)'!N60 -> 0 | O60: 年 | P60: ='【事業主控】 (このシートに入力してください)'!P60 -> 0 | Q60: 月 | R60: ='【事業主控】 (このシートに入力してください)'!R60 -> 0 | S60: 日まで | U60: ='【事業主控】 (このシートに入力してください)'!U60 -> 0 | Y60: ='【事業主控】 (このシートに入力してください)'!Y60 -> 0 | AC60: ='【事業主控】 (このシートに入力してください)'!AC60 -> 0 | AG60: ='【事業主控】 (このシートに入力してください)'!AG60 -> 0 | AK60: ='【事業主控】 (このシートに入力してください)'!AK60 | AM60: ='【事業主控】 (このシートに入力してください)'!AM60
A61: ='【事業主控】 (このシートに入力してください)'!A61 -> 0 | I61: ='【事業主控】 (このシートに入力してください)'!I61 -> 0 | N61: ='【事業主控】 (このシートに入力してください)'!N61 -> 0 | O61: 年 | P61: ='【事業主控】 (このシートに入力してください)'!P61 -> 0 | Q61: 月 | R61: ='【事業主控】 (このシートに入力してください)'!R61 -> 0 | S61: 日から
N62: ='【事業主控】 (このシートに入力してください)'!N62 -> 0 | O62: 年 | P62: ='【事業主控】 (このシートに入力してください)'!P62 -> 0 | Q62: 月 | R62: ='【事業主控】 (このシートに入力してください)'!R62 -> 0 | S62: 日まで | U62: ='【事業主控】 (このシートに入力してください)'!U62 -> 0 | Y62: ='【事業主控】 (このシートに入力してください)'!Y62 -> 0 | AC62: ='【事業主控】 (このシートに入力してください)'!AC62 -> 0 | AG62: ='【事業主控】 (このシートに入力してください)'!AG62 -> 0 | AK62: ='【事業主控】 (このシートに入力してください)'!AK62 | AM62: ='【事業主控】 (このシートに入力してください)'!AM62
A63: ='【事業主控】 (このシートに入力してください)'!A63 -> 0 | I63: ='【事業主控】 (このシートに入力してください)'!I63 -> 0 | N63: ='【事業主控】 (このシートに入力してください)'!N63 -> 0 | O63: 年 | P63: ='【事業主控】 (このシートに入力してください)'!P63 -> 0 | Q63: 月 | R63: ='【事業主控】 (このシートに入力してください)'!R63 -> 0 | S63: 日から
N64: ='【事業主控】 (このシートに入力してください)'!N64 -> 0 | O64: 年 | P64: ='【事業主控】 (このシートに入力してください)'!P64 -> 0 | Q64: 月 | R64: ='【事業主控】 (このシートに入力してください)'!R64 -> 0 | S64: 日まで | U64: ='【事業主控】 (このシートに入力してください)'!U64 -> 0 | Y64: ='【事業主控】 (このシートに入力してください)'!Y64 -> 0 | AC64: ='【事業主控】 (このシートに入力してください)'!AC64 -> 0 | AG64: ='【事業主控】 (このシートに入力してください)'!AG64 -> 0 | AK64: ='【事業主控】 (このシートに入力してください)'!AK64 | AM64: ='【事業主控】 (このシートに入力してください)'!AM64
A65: ='【事業主控】 (このシートに入力してください)'!A65 -> 0 | I65: ='【事業主控】 (このシートに入力してください)'!I65 -> 0 | N65: ='【事業主控】 (このシートに入力してください)'!N65 -> 0 | O65: 年 | P65: ='【事業主控】 (このシートに入力してください)'!P65 -> 0 | Q65: 月 | R65: ='【事業主控】 (このシートに入力してください)'!R65 -> 0 | S65: 日から
N66: ='【事業主控】 (このシートに入力してください)'!N66 -> 0 | O66: 年 | P66: ='【事業主控】 (このシートに入力してください)'!P66 -> 0 | Q66: 月 | R66: ='【事業主控】 (このシートに入力してください)'!R66 -> 0 | S66: 日まで | U66: ='【事業主控】 (このシートに入力してください)'!U66 -> 0 | Y66: ='【事業主控】 (このシートに入力してください)'!Y66 -> 0 | AC66: ='【事業主控】 (このシートに入力してください)'!AC66 -> 0 | AG66: ='【事業主控】 (このシートに入力してください)'!AG66 -> 0 | AK66: ='【事業主控】 (このシートに入力してください)'!AK66 | AM66: ='【事業主控】 (このシートに入力してください)'!AM66
A67: ='【事業主控】 (このシートに入力してください)'!A67 -> 0 | I67: ='【事業主控】 (このシートに入力してください)'!I67 -> 0 | N67: ='【事業主控】 (このシートに入力してください)'!N67 -> 0 | O67: 年 | P67: ='【事業主控】 (このシートに入力してください)'!P67 -> 0 | Q67: 月 | R67: ='【事業主控】 (このシートに入力してください)'!R67 -> 0 | S67: 日から
N68: ='【事業主控】 (このシートに入力してください)'!N68 -> 0 | O68: 年 | P68: ='【事業主控】 (このシートに入力してください)'!P68 -> 0 | Q68: 月 | R68: ='【事業主控】 (このシートに入力してください)'!R68 -> 0 | S68: 日まで | U68: ='【事業主控】 (このシートに入力してください)'!U68 -> 0 | Y68: ='【事業主控】 (このシートに入力してください)'!Y68 -> 0 | AC68: ='【事業主控】 (このシートに入力してください)'!AC68 -> 0 | AG68: ='【事業主控】 (このシートに入力してください)'!AG68 -> 0 | AK68: ='【事業主控】 (このシートに入力してください)'!AK68 | AM68: ='【事業主控】 (このシートに入力してください)'!AM68
A69: ='【事業主控】 (このシートに入力してください)'!A69 -> 0 | I69: ='【事業主控】 (このシートに入力してください)'!I69 -> 0 | N69: ='【事業主控】 (このシートに入力してください)'!N69 -> 0 | O69: 年 | P69: ='【事業主控】 (このシートに入力してください)'!P69 -> 0 | Q69: 月 | R69: ='【事業主控】 (このシートに入力してください)'!R69 -> 0 | S69: 日から
N70: ='【事業主控】 (このシートに入力してください)'!N70 -> 0 | O70: 年 | P70: ='【事業主控】 (このシートに入力してください)'!P70 -> 0 | Q70: 月 | R70: ='【事業主控】 (このシートに入力してください)'!R70 -> 0 | S70: 日まで | U70: ='【事業主控】 (このシートに入力してください)'!U70 -> 0 | Y70: ='【事業主控】 (このシートに入力してください)'!Y70 -> 0 | AC70: ='【事業主控】 (このシートに入力してください)'!AC70 -> 0 | AG70: ='【事業主控】 (このシートに入力してください)'!AG70 -> 0 | AK70: ='【事業主控】 (このシートに入力してください)'!AK70 | AM70: ='【事業主控】 (このシートに入力してください)'!AM70
A71: 事業の種類 | E71: =E26 -> 37 その他の建設事業 | N71: 計
U72: ='【事業主控】 (このシートに入力してください)'!U72 -> 0 | Y72: ='【事業主控】 (このシートに入力してください)'!Y72 -> 0 | AC72: ='【事業主控】 (このシートに入力してください)'!AC72 -> 0 | AG72: ='【事業主控】 (このシートに入力してください)'!AG72 -> 0 | AM72: ='【事業主控】 (このシートに入力してください)'!AM72 -> 0
A74: 様式第７号（第34条関係） （甲） 〔別紙〕
AO75: 提出用
A79: 労 働 保 険 番 号 | I79: 府 県 | K79: 所掌 | L79: 管 轄 | N79: 基 幹 番 号 | T79: 枝 番 号 | AK79: ='【事業主控】 (このシートに入力してください)'!AK79 -> 1 | AM79: 枚のうち | AO79: 3 | AQ79: 枚目
I80: =I10 -> ３ | J80: =J10 -> ４ | K80: =K10 -> １ | L80: =L10 -> ０ | M80: =M10 -> ３ | N80: =N10 -> ９ | O80: =O10 -> ４ | P80: =P10 -> ６ | ... V80: =V10 -> 0
A83: 事 業 の 名 称 | I83: 事業場の所在地 | N83: 事 業 の 期 間 | U83: ① | X83: 請負金額の内訳 | AK83: ② | AM83: ③
U84: 請負代金の額 | Y84: 請負代金に 加算する額 | AC84: 請負代金から 控除する額 | AG84: 請負金額 | AK84: 労 務 比 率 | AM84: 賃 金 総 額
A86: ='【事業主控】 (このシートに入力してください)'!A86 -> 0 | I86: ='【事業主控】 (このシートに入力してください)'!I86 -> 0 | N86: ='【事業主控】 (このシートに入力してください)'!N86 -> 0 | O86: 年 | P86: ='【事業主控】 (このシートに入力してください)'!P86 -> 0 | Q86: 月 | R86: ='【事業主控】 (このシートに入力してください)'!R86 -> 0 | S86: 日から | X86: 円 | AB86: 円 | AF86: 円 | AR86: 円
N87: ='【事業主控】 (このシートに入力してください)'!N87 -> 0 | O87: 年 | P87: ='【事業主控】 (このシートに入力してください)'!P87 -> 0 | Q87: 月 | R87: ='【事業主控】 (このシートに入力してください)'!R87 -> 0 | S87: 日まで | U87: ='【事業主控】 (このシートに入力してください)'!U87 -> 0 | Y87: ='【事業主控】 (このシートに入力してください)'!Y87 -> 0 | AC87: ='【事業主控】 (このシートに入力してください)'!AC87 -> 0 | AG87: ='【事業主控】 (このシートに入力してください)'!AG87 -> 0 | AK87: ='【事業主控】 (このシートに入力してください)'!AK87 | AM87: ='【事業主控】 (このシートに入力してください)'!AM87
A88: ='【事業主控】 (このシートに入力してください)'!A88 -> 0 | I88: ='【事業主控】 (このシートに入力してください)'!I88 -> 0 | N88: ='【事業主控】 (このシートに入力してください)'!N88 -> 0 | O88: 年 | P88: ='【事業主控】 (このシートに入力してください)'!P88 -> 0 | Q88: 月 | R88: ='【事業主控】 (このシートに入力してください)'!R88 -> 0 | S88: 日から
N89: ='【事業主控】 (このシートに入力してください)'!N89 -> 0 | O89: 年 | P89: ='【事業主控】 (このシートに入力してください)'!P89 -> 0 | Q89: 月 | R89: ='【事業主控】 (このシートに入力してください)'!R89 -> 0 | S89: 日まで | U89: ='【事業主控】 (このシートに入力してください)'!U89 -> 0 | Y89: ='【事業主控】 (このシートに入力してください)'!Y89 -> 0 | AC89: ='【事業主控】 (このシートに入力してください)'!AC89 -> 0 | AG89: ='【事業主控】 (このシートに入力してください)'!AG89 -> 0 | AK89: ='【事業主控】 (このシートに入力してください)'!AK89 | AM89: ='【事業主控】 (このシートに入力してください)'!AM89
A90: ='【事業主控】 (このシートに入力してください)'!A90 -> 0 | I90: ='【事業主控】 (このシートに入力してください)'!I90 -> 0 | N90: ='【事業主控】 (このシートに入力してください)'!N90 -> 0 | O90: 年 | P90: ='【事業主控】 (このシートに入力してください)'!P90 -> 0 | Q90: 月 | R90: ='【事業主控】 (このシートに入力してください)'!R90 -> 0 | S90: 日から
N91: ='【事業主控】 (このシートに入力してください)'!N91 -> 0 | O91: 年 | P91: ='【事業主控】 (このシートに入力してください)'!P91 -> 0 | Q91: 月 | R91: ='【事業主控】 (このシートに入力してください)'!R91 -> 0 | S91: 日まで | U91: ='【事業主控】 (このシートに入力してください)'!U91 -> 0 | Y91: ='【事業主控】 (このシートに入力してください)'!Y91 -> 0 | AC91: ='【事業主控】 (このシートに入力してください)'!AC91 -> 0 | AG91: ='【事業主控】 (このシートに入力してください)'!AG91 -> 0 | AK91: ='【事業主控】 (このシートに入力してください)'!AK91 | AM91: ='【事業主控】 (このシートに入力してください)'!AM91
A92: ='【事業主控】 (このシートに入力してください)'!A92 -> 0 | I92: ='【事業主控】 (このシートに入力してください)'!I92 -> 0 | N92: ='【事業主控】 (このシートに入力してください)'!N92 -> 0 | O92: 年 | P92: ='【事業主控】 (このシートに入力してください)'!P92 -> 0 | Q92: 月 | R92: ='【事業主控】 (このシートに入力してください)'!R92 -> 0 | S92: 日から
N93: ='【事業主控】 (このシートに入力してください)'!N93 -> 0 | O93: 年 | P93: ='【事業主控】 (このシートに入力してください)'!P93 -> 0 | Q93: 月 | R93: ='【事業主控】 (このシートに入力してください)'!R93 -> 0 | S93: 日まで | U93: ='【事業主控】 (このシートに入力してください)'!U93 -> 0 | Y93: ='【事業主控】 (このシートに入力してください)'!Y93 -> 0 | AC93: ='【事業主控】 (このシートに入力してください)'!AC93 -> 0 | AG93: ='【事業主控】 (このシートに入力してください)'!AG93 -> 0 | AK93: ='【事業主控】 (このシートに入力してください)'!AK93 | AM93: ='【事業主控】 (このシートに入力してください)'!AM93
A94: ='【事業主控】 (このシートに入力してください)'!A94 -> 0 | I94: ='【事業主控】 (このシートに入力してください)'!I94 -> 0 | N94: ='【事業主控】 (このシートに入力してください)'!N94 -> 0 | O94: 年 | P94: ='【事業主控】 (このシートに入力してください)'!P94 -> 0 | Q94: 月 | R94: ='【事業主控】 (このシートに入力してください)'!R94 -> 0 | S94: 日から
N95: ='【事業主控】 (このシートに入力してください)'!N95 -> 0 | O95: 年 | P95: ='【事業主控】 (このシートに入力してください)'!P95 -> 0 | Q95: 月 | R95: ='【事業主控】 (このシートに入力してください)'!R95 -> 0 | S95: 日まで | U95: ='【事業主控】 (このシートに入力してください)'!U95 -> 0 | Y95: ='【事業主控】 (このシートに入力してください)'!Y95 -> 0 | AC95: ='【事業主控】 (このシートに入力してください)'!AC95 -> 0 | AG95: ='【事業主控】 (このシートに入力してください)'!AG95 -> 0 | AK95: ='【事業主控】 (このシートに入力してください)'!AK95 | AM95: ='【事業主控】 (このシートに入力してください)'!AM95
A96: ='【事業主控】 (このシートに入力してください)'!A96 -> 0 | I96: ='【事業主控】 (このシートに入力してください)'!I96 -> 0 | N96: ='【事業主控】 (このシートに入力してください)'!N96 -> 0 | O96: 年 | P96: ='【事業主控】 (このシートに入力してください)'!P96 -> 0 | Q96: 月 | R96: ='【事業主控】 (このシートに入力してください)'!R96 -> 0 | S96: 日から
N97: ='【事業主控】 (このシートに入力してください)'!N97 -> 0 | O97: 年 | P97: ='【事業主控】 (このシートに入力してください)'!P97 -> 0 | Q97: 月 | R97: ='【事業主控】 (このシートに入力してください)'!R97 -> 0 | S97: 日まで | U97: ='【事業主控】 (このシートに入力してください)'!U97 -> 0 | Y97: ='【事業主控】 (このシートに入力してください)'!Y97 -> 0 | AC97: ='【事業主控】 (このシートに入力してください)'!AC97 -> 0 | AG97: ='【事業主控】 (このシートに入力してください)'!AG97 -> 0 | AK97: ='【事業主控】 (このシートに入力してください)'!AK97 | AM97: ='【事業主控】 (このシートに入力してください)'!AM97
A98: ='【事業主控】 (このシートに入力してください)'!A98 -> 0 | I98: ='【事業主控】 (このシートに入力してください)'!I98 -> 0 | N98: ='【事業主控】 (このシートに入力してください)'!N98 -> 0 | O98: 年 | P98: ='【事業主控】 (このシートに入力してください)'!P98 -> 0 | Q98: 月 | R98: ='【事業主控】 (このシートに入力してください)'!R98 -> 0 | S98: 日から
N99: ='【事業主控】 (このシートに入力してください)'!N99 -> 0 | O99: 年 | P99: ='【事業主控】 (このシートに入力してください)'!P99 -> 0 | Q99: 月 | R99: ='【事業主控】 (このシートに入力してください)'!R99 -> 0 | S99: 日まで | U99: ='【事業主控】 (このシートに入力してください)'!U99 -> 0 | Y99: ='【事業主控】 (このシートに入力してください)'!Y99 -> 0 | AC99: ='【事業主控】 (このシートに入力してください)'!AC99 -> 0 | AG99: ='【事業主控】 (このシートに入力してください)'!AG99 -> 0 | AK99: ='【事業主控】 (このシートに入力してください)'!AK99 | AM99: ='【事業主控】 (このシートに入力してください)'!AM99
A100: ='【事業主控】 (このシートに入力してください)'!A100 -> 0 | I100: ='【事業主控】 (このシートに入力してください)'!I100 -> 0 | N100: ='【事業主控】 (このシートに入力してください)'!N100 -> 0 | O100: 年 | P100: ='【事業主控】 (このシートに入力してください)'!P100 -> 0 | Q100: 月 | R100: ='【事業主控】 (このシートに入力してください)'!R100 -> 0 | S100: 日から
N101: ='【事業主控】 (このシートに入力してください)'!N101 -> 0 | O101: 年 | P101: ='【事業主控】 (このシートに入力してください)'!P101 -> 0 | Q101: 月 | R101: ='【事業主控】 (このシートに入力してください)'!R101 -> 0 | S101: 日まで | U101: ='【事業主控】 (このシートに入力してください)'!U101 -> 0 | Y101: ='【事業主控】 (このシートに入力してください)'!Y101 -> 0 | AC101: ='【事業主控】 (このシートに入力してください)'!AC101 -> 0 | AG101: ='【事業主控】 (このシートに入力してください)'!AG101 -> 0 | AK101: ='【事業主控】 (このシートに入力してください)'!AK101 | AM101: ='【事業主控】 (このシートに入力してください)'!AM101
A102: ='【事業主控】 (このシートに入力してください)'!A102 -> 0 | I102: ='【事業主控】 (このシートに入力してください)'!I102 -> 0 | N102: ='【事業主控】 (このシートに入力してください)'!N102 -> 0 | O102: 年 | P102: ='【事業主控】 (このシートに入力してください)'!P102 -> 0 | Q102: 月 | R102: ='【事業主控】 (このシートに入力してください)'!R102 -> 0 | S102: 日から
N103: ='【事業主控】 (このシートに入力してください)'!N103 -> 0 | O103: 年 | P103: ='【事業主控】 (このシートに入力してください)'!P103 -> 0 | Q103: 月 | R103: ='【事業主控】 (このシートに入力してください)'!R103 -> 0 | S103: 日まで | U103: ='【事業主控】 (このシートに入力してください)'!U103 -> 0 | Y103: ='【事業主控】 (このシートに入力してください)'!Y103 -> 0 | AC103: ='【事業主控】 (このシートに入力してください)'!AC103 -> 0 | AG103: ='【事業主控】 (このシートに入力してください)'!AG103 -> 0 | AK103: ='【事業主控】 (このシートに入力してください)'!AK103 | AM103: ='【事業主控】 (このシートに入力してください)'!AM103
A104: 事業の種類 | E104: =E26 -> 37 その他の建設事業 | N104: 計
U105: =U87+U89+U91+U93+U95+U97+U99+U101+U103-U104 -> 0 | Y105: =Y87+Y89+Y91+Y93+Y95+Y97+Y99+Y101+Y103 -> 0 | AC105: =AC87+AC89+AC91+AC93+AC95+AC97+AC99+AC101+AC103 -> 0 | AG105: ='【事業主控】 (このシートに入力してください)'!AG105 -> 0 | AM105: ='【事業主控】 (このシートに入力してください)'!AM105 -> 0
A108: 様式第７号（第34条関係） （甲） 〔別紙〕
AO109: 提出用
A113: 労 働 保 険 番 号 | I113: 府 県 | K113: 所掌 | L113: 管 轄 | N113: 基 幹 番 号 | T113: 枝 番 号 | AK113: ='【事業主控】 (このシートに入力してください)'!AK113 -> 1 | AM113: 枚のうち | AO113: 4 | AQ113: 枚目
I114: =I10 -> ３ | J114: =J10 -> ４ | K114: =K10 -> １ | L114: =L10 -> ０ | M114: =M10 -> ３ | N114: =N10 -> ９ | O114: =O10 -> ４ | P114: =P10 -> ６ | ... V114: =V10 -> 0
A117: 事 業 の 名 称 | I117: 事業場の所在地 | N117: 事 業 の 期 間 | U117: ① | X117: 請負金額の内訳 | AK117: ② | AM117: ③
U118: 請負代金の額 | Y118: 請負代金に 加算する額 | AC118: 請負代金から 控除する額 | AG118: 請負金額 | AK118: 労 務 比 率 | AM118: 賃 金 総 額
A120: ='【事業主控】 (このシートに入力してください)'!A120 -> 0 | I120: ='【事業主控】 (このシートに入力してください)'!I120 -> 0 | N120: ='【事業主控】 (このシートに入力してください)'!N120 -> 0 | O120: 年 | P120: ='【事業主控】 (このシートに入力してください)'!P120 -> 0 | Q120: 月 | R120: ='【事業主控】 (このシートに入力してください)'!R120 -> 0 | S120: 日から | X120: 円 | AB120: 円 | AF120: 円 | AR120: 円
N121: ='【事業主控】 (このシートに入力してください)'!N121 -> 0 | O121: 年 | P121: ='【事業主控】 (このシートに入力してください)'!P121 -> 0 | Q121: 月 | R121: ='【事業主控】 (このシートに入力してください)'!R121 -> 0 | S121: 日まで | U121: ='【事業主控】 (このシートに入力してください)'!U121 -> 0 | Y121: ='【事業主控】 (このシートに入力してください)'!Y121 -> 0 | AC121: ='【事業主控】 (このシートに入力してください)'!AC121 -> 0 | AG121: ='【事業主控】 (このシートに入力してください)'!AG121 -> 0 | AK121: ='【事業主控】 (このシートに入力してください)'!AK121 | AM121: ='【事業主控】 (このシートに入力してください)'!AM121
A122: ='【事業主控】 (このシートに入力してください)'!A122 -> 0 | I122: ='【事業主控】 (このシートに入力してください)'!I122 -> 0 | N122: ='【事業主控】 (このシートに入力してください)'!N122 -> 0 | O122: 年 | P122: ='【事業主控】 (このシートに入力してください)'!P122 -> 0 | Q122: 月 | R122: ='【事業主控】 (このシートに入力してください)'!R122 -> 0 | S122: 日から
N123: ='【事業主控】 (このシートに入力してください)'!N123 -> 0 | O123: 年 | P123: ='【事業主控】 (このシートに入力してください)'!P123 -> 0 | Q123: 月 | R123: ='【事業主控】 (このシートに入力してください)'!R123 -> 0 | S123: 日まで | U123: ='【事業主控】 (このシートに入力してください)'!U123 -> 0 | Y123: ='【事業主控】 (このシートに入力してください)'!Y123 -> 0 | AC123: ='【事業主控】 (このシートに入力してください)'!AC123 -> 0 | AG123: ='【事業主控】 (このシートに入力してください)'!AG123 -> 0 | AK123: ='【事業主控】 (このシートに入力してください)'!AK123 | AM123: ='【事業主控】 (このシートに入力してください)'!AM123
A124: ='【事業主控】 (このシートに入力してください)'!A124 -> 0 | I124: ='【事業主控】 (このシートに入力してください)'!I124 -> 0 | N124: ='【事業主控】 (このシートに入力してください)'!N124 -> 0 | O124: 年 | P124: ='【事業主控】 (このシートに入力してください)'!P124 -> 0 | Q124: 月 | R124: ='【事業主控】 (このシートに入力してください)'!R124 -> 0 | S124: 日から
N125: ='【事業主控】 (このシートに入力してください)'!N125 -> 0 | O125: 年 | P125: ='【事業主控】 (このシートに入力してください)'!P125 -> 0 | Q125: 月 | R125: ='【事業主控】 (このシートに入力してください)'!R125 -> 0 | S125: 日まで | U125: ='【事業主控】 (このシートに入力してください)'!U125 -> 0 | Y125: ='【事業主控】 (このシートに入力してください)'!Y125 -> 0 | AC125: ='【事業主控】 (このシートに入力してください)'!AC125 -> 0 | AG125: ='【事業主控】 (このシートに入力してください)'!AG125 -> 0 | AK125: ='【事業主控】 (このシートに入力してください)'!AK125 | AM125: ='【事業主控】 (このシートに入力してください)'!AM125
A126: ='【事業主控】 (このシートに入力してください)'!A126 -> 0 | I126: ='【事業主控】 (このシートに入力してください)'!I126 -> 0 | N126: ='【事業主控】 (このシートに入力してください)'!N126 -> 0 | O126: 年 | P126: ='【事業主控】 (このシートに入力してください)'!P126 -> 0 | Q126: 月 | R126: ='【事業主控】 (このシートに入力してください)'!R126 -> 0 | S126: 日から
N127: ='【事業主控】 (このシートに入力してください)'!N127 -> 0 | O127: 年 | P127: ='【事業主控】 (このシートに入力してください)'!P127 -> 0 | Q127: 月 | R127: ='【事業主控】 (このシートに入力してください)'!R127 -> 0 | S127: 日まで | U127: ='【事業主控】 (このシートに入力してください)'!U127 -> 0 | Y127: ='【事業主控】 (このシートに入力してください)'!Y127 -> 0 | AC127: ='【事業主控】 (このシートに入力してください)'!AC127 -> 0 | AG127: ='【事業主控】 (このシートに入力してください)'!AG127 -> 0 | AK127: ='【事業主控】 (このシートに入力してください)'!AK127 | AM127: ='【事業主控】 (このシートに入力してください)'!AM127
A128: ='【事業主控】 (このシートに入力してください)'!A128 -> 0 | I128: ='【事業主控】 (このシートに入力してください)'!I128 -> 0 | N128: ='【事業主控】 (このシートに入力してください)'!N128 -> 0 | O128: 年 | P128: ='【事業主控】 (このシートに入力してください)'!P128 -> 0 | Q128: 月 | R128: ='【事業主控】 (このシートに入力してください)'!R128 -> 0 | S128: 日から
N129: ='【事業主控】 (このシートに入力してください)'!N129 -> 0 | O129: 年 | P129: ='【事業主控】 (このシートに入力してください)'!P129 -> 0 | Q129: 月 | R129: ='【事業主控】 (このシートに入力してください)'!R129 -> 0 | S129: 日まで | U129: ='【事業主控】 (このシートに入力してください)'!U129 -> 0 | Y129: ='【事業主控】 (このシートに入力してください)'!Y129 -> 0 | AC129: ='【事業主控】 (このシートに入力してください)'!AC129 -> 0 | AG129: ='【事業主控】 (このシートに入力してください)'!AG129 -> 0 | AK129: ='【事業主控】 (このシートに入力してください)'!AK129 | AM129: ='【事業主控】 (このシートに入力してください)'!AM129
A130: ='【事業主控】 (このシートに入力してください)'!A130 -> 0 | I130: ='【事業主控】 (このシートに入力してください)'!I130 -> 0 | N130: ='【事業主控】 (このシートに入力してください)'!N130 -> 0 | O130: 年 | P130: ='【事業主控】 (このシートに入力してください)'!P130 -> 0 | Q130: 月 | R130: ='【事業主控】 (このシートに入力してください)'!R130 -> 0 | S130: 日から
N131: ='【事業主控】 (このシートに入力してください)'!N131 -> 0 | O131: 年 | P131: ='【事業主控】 (このシートに入力してください)'!P131 -> 0 | Q131: 月 | R131: ='【事業主控】 (このシートに入力してください)'!R131 -> 0 | S131: 日まで | U131: ='【事業主控】 (このシートに入力してください)'!U131 -> 0 | Y131: ='【事業主控】 (このシートに入力してください)'!Y131 -> 0 | AC131: ='【事業主控】 (このシートに入力してください)'!AC131 -> 0 | AG131: ='【事業主控】 (このシートに入力してください)'!AG131 -> 0 | AK131: ='【事業主控】 (このシートに入力してください)'!AK131 | AM131: ='【事業主控】 (このシートに入力してください)'!AM131
A132: ='【事業主控】 (このシートに入力してください)'!A132 -> 0 | I132: ='【事業主控】 (このシートに入力してください)'!I132 -> 0 | N132: ='【事業主控】 (このシートに入力してください)'!N132 -> 0 | O132: 年 | P132: ='【事業主控】 (このシートに入力してください)'!P132 -> 0 | Q132: 月 | R132: ='【事業主控】 (このシートに入力してください)'!R132 -> 0 | S132: 日から
N133: ='【事業主控】 (このシートに入力してください)'!N133 -> 0 | O133: 年 | P133: ='【事業主控】 (このシートに入力してください)'!P133 -> 0 | Q133: 月 | R133: ='【事業主控】 (このシートに入力してください)'!R133 -> 0 | S133: 日まで | U133: ='【事業主控】 (このシートに入力してください)'!U133 -> 0 | Y133: ='【事業主控】 (このシートに入力してください)'!Y133 -> 0 | AC133: ='【事業主控】 (このシートに入力してください)'!AC133 -> 0 | AG133: ='【事業主控】 (このシートに入力してください)'!AG133 -> 0 | AK133: ='【事業主控】 (このシートに入力してください)'!AK133 | AM133: ='【事業主控】 (このシートに入力してください)'!AM133
A134: ='【事業主控】 (このシートに入力してください)'!A134 -> 0 | I134: ='【事業主控】 (このシートに入力してください)'!I134 -> 0 | N134: ='【事業主控】 (このシートに入力してください)'!N134 -> 0 | O134: 年 | P134: ='【事業主控】 (このシートに入力してください)'!P134 -> 0 | Q134: 月 | R134: ='【事業主控】 (このシートに入力してください)'!R134 -> 0 | S134: 日から
...

Sheet 労務費率表
A1: 建設事業 労務費率表
D2: https://www.mhlw.go.jp/content/roumuhiritu_r05.pdf
A4: 事業の種類の分類 | B4: 業種 番号 | C4: 事業の種類 | D4: 労務費率
A5: 建設事業 | B5: 31 | C5: 31 水力発電施設、随道等新設事業 | D5: 19
B6: 32 | C6: 32 道路新設事業 | D6: 19
B7: 33 | C7: 33 舗装工事業 | D7: 17
B8: 34 | C8: 34 鉄道又は軌道新設事業 | D8: 19
B9: 35 | C9: 35 建築事業 （既設建築物設備工事業を除く） | D9: 23
B10: 38 | C10: 38 既設建築物設備工事業 | D10: 23
B11: 36 | C11: 36 機械装置の組立て又は据付けの事業 【組立て又は取付けに関するもの】 | D11: 38
C12: 36 機械装置の組立て又は据付けの事業 【その他のもの】 | D12: 21
B13: 37 | C13: 37 その他の建設事業 | D13: 23
B14: 0 | C14: 00 元請工事なし | D14: 0
