Workbook
Name 事業の種類: 労務費率表!$C$5:$C$13

Sheet 【事業主控】     (このシートに入力してください)
A4: 様式第７号（第34条関係） （甲） | T4: 労 働 保 険
M5: 一括有期事業報告書 （建設の事業） | AO5: 事業主控
A9: 労 働 保 険 番 号 | I9: 府 県 | K9: 所掌 | L9: 管 轄 | N9: 基 幹 番 号 | T9: 枝 番 号 | AK9: 1 | AM9: 枚のうち | AO9: 1 | AQ9: 枚目
I10: ３ | J10: ４ | K10: １ | L10: ０ | M10: ３ | N10: ９ | O10: ４ | P10: ６ | Q10: １ | R10: １ | S10: ５
A13: 事 業 の 名 称 | I13: 事業場の所在地 | N13: 事 業 の 期 間 | U13: ① | X13: 請負金額の内訳 | AK13: ② | AM13: ③
U14: 請負代金の額 | Y14: 請負代金に 加算する額 | AC14: 請負代金から 控除する額 | AG14: 請負金額 | AK14: 労 務 費 率 | AM14: 賃 金 総 額
A16: 入力見本１ | I16: 府中市入力町 | N16: 6 | O16: 年 | P16: 4 | Q16: 月 | R16: 1 | S16: 日から | AB16: 円 | AF16: 円 | AR16: 円
N17: 7 | O17: 年 | P17: 3 | Q17: 月 | R17: 31 | S17: 日まで | U17: 555555 | AG17: =U17+Y17-AC17 -> 555555 | AK17: =IF(AG17>1,SUMIF(労務費率表!$C$5:$C$13,$E$26,労務費率表!$D$5:$D$13),"") -> 23 | AM17: =IF(AG17>1,ROUNDDOWN(AG17*AK17/100,0),"") -> 127777
A18: 入力見本２ | I18: 府中市見本町 | N18: 6 | O18: 年 | P18: 6 | Q18: 月 | R18: 1 | S18: 日から
N19: 6 | O19: 年 | P19: 12 | Q19: 月 | R19: 1 | S19: 日まで | U19: 333333 | AG19: =U19+Y19-AC19 -> 333333 | AK19: =IF(AG19>1,SUMIF(労務費率表!$C$5:$C$13,$E$26,労務費率表!$D$5:$D$13),"") -> 23 | AM19: =IF(AG19>1,ROUNDDOWN(AG19*AK19/100,0),"") -> 76666
O20: 年 | Q20: 月 | S20: 日から
O21: 年 | Q21: 月 | S21: 日まで | AG21: =U21+Y21-AC21 -> 0 | AK21: =IF(AG21>1,SUMIF(労務費率表!$C$5:$C$13,$E$26,労務費率表!$D$5:$D$13),"") | AM21: =IF(AG21>1,ROUNDDOWN(AG21*AK21/100,0),"")
O22: 年 | Q22: 月 | S22: 日から
O23: 年 | Q23: 月 | S23: 日まで | AG23: =U23+Y23-AC23 -> 0 | AK23: =IF(AG23>1,SUMIF(労務費率表!$C$5:$C$13,$E$26,労務費率表!$D$5:$D$13),"") | AM23: =IF(AG23>1,ROUNDDOWN(AG23*AK23/100,0),"")
O24: 年 | Q24: 月 | S24: 日から
O25: 年 | Q25: 月 | S25: 日まで | AG25: =U25+Y25-AC25 -> 0 | AK25: =IF(AG25>1,SUMIF(労務費率表!$C$5:$C$13,$E$26,労務費率表!$D$5:$D$13),"") | AM25: =IF(AG25>1,ROUNDDOWN(AG25*AK25/100,0),"")
A26: 事業の種類 | E26: 37 その他の建設事業 | N26: 計
U27: =U17+U19+U21+U23+U25 -> 888888 | Y27: =Y17+Y19+Y21+Y23+Y25 -> 0 | AC27: =AC17+AC19+AC21+AC23+AC25 -> 0 | AG27: =AG17+AG19+AG21+AG23+AG25 -> 888888 | AM27: =SUM(AM17:AQ25) -> 204443
C28: 前年度中（保険関係が消滅した日まで）に廃止又は終了があったそれぞれの事業の明細を上記のとおり報告します。
AH29: 郵便番号（ | AL29: - | AR29: )
C30: 8 | E30: 年 | H30: 月 | K30: 日 | AH30: 電話番号（ | AK30: - | AN30: - | AR30: )
Z31: 住 所
W32: 事 業 主
C33: 広島 | G33: 労働局労働保険特別会計歳入徴収官 殿 | Z33: 氏 名
AC34: （法人のときはその名称及び代表者の氏名）
C35: 〔注意〕 | Z35: 社会保険 労務士 記載欄 | AB35: 作 成 年 月 日 ・ 提 出 代 行 者 ・ 事務代理者の表示 | AI35: 氏名 | AO35: 電話番号
C36: 社会保険労務士記載欄は、この報告書を社会保険労務士が作成した場合のみ記載すること。
A41: 様式第７号（第34条関係） （甲） 〔別紙〕
AO42: 事業主控
A46: 労 働 保 険 番 号 | I46: 府 県 | K46: 所掌 | L46: 管 轄 | N46: 基 幹 番 号 | T46: 枝 番 号 | AK46: =$AK$9 -> 1 | AM46: 枚のうち | AO46: 2 | AQ46: 枚目
I47: =I10 -> ３ | J47: =J10 -> ４ | K47: =K10 -> １ | L47: =L10 -> ０ | M47: =M10 -> ３ | N47: =N10 -> ９ | O47: =O10 -> ４ | P47: =P10 -> ６ | ... V47: =V10 -> 0
A50: 事 業 の 名 称 | I50: 事業場の所在地 | N50: 事 業 の 期 間 | U50: ① | X50: 請負金額の内訳 | AK50: ② | AM50: ③
U51: 請負代金の額 | Y51: 請負代金に 加算する額 | AC51: 請負代金から 控除する額 | AG51: 請負金額 | AK51: 労 務 比 率 | AM51: 賃 金 総 額
O53: 年 | Q53: 月 | S53: 日から | X53: 円 | AB53: 円 | AF53: 円 | AR53: 円
O54: 年 | Q54: 月 | S54: 日まで | AG54: =U54+Y54-AC54 -> 0 | AK54: =IF(AG54>1,SUMIF(労務費率表!$C$5:$C$13,$E$71,労務費率表!$D$5:$D$13),"") | AM54: =IF(AG54>1,ROUNDDOWN(AG54*AK54/100,0),"")
O55: 年 | Q55: 月 | S55: 日から
O56: 年 | Q56: 月 | S56: 日まで | AG56: =U56+Y56-AC56 -> 0 | AK56: =IF(AG56>1,SUMIF(労務費率表!$C$5:$C$13,$E$71,労務費率表!$D$5:$D$13),"") | AM56: =IF(AG56>1,ROUNDDOWN(AG56*AK56/100,0),"")
O57: 年 | Q57: 月 | S57: 日から
O58: 年 | Q58: 月 | S58: 日まで | AG58: =U58+Y58-AC58 -> 0 | AK58: =IF(AG58>1,SUMIF(労務費率表!$C$5:$C$13,$E$71,労務費率表!$D$5:$D$13),"") | AM58: =IF(AG58>1,ROUNDDOWN(AG58*AK58/100,0),"")
O59: 年 | Q59: 月 | S59: 日から
...

Sheet 【提出用】　事務組合に提出する様式
A4: 様式第７号（第34条関係） （甲） | T4: 労 働 保 険
L5: 一括有期事業報告書 （建設の事業） | AO5: 提出用
A9: 労 働 保 険 番 号 | I9: 府 県 | K9: 所掌 | L9: 管 轄 | N9: 基 幹 番 号 | T9: 枝 番 号 | AK9: ='【事業主控】 (このシートに入力してください)'!AK9 -> 1 | AM9: 枚のうち | AO9: 1 | AQ9: 枚目
I10: ='【事業主控】 (このシートに入力してください)'!I10 -> ３ | J10: ='【事業主控】 (このシートに入力してください)'!J10 -> ４ | K10: ='【事業主控】 (このシートに入力してください)'!K10 -> １ | L10: ='【事業主控】 (このシートに入力してください)'!L10 -> ０ | M10: ='【事業主控】 (このシートに入力してください)'!M10 -> ３ | N10: ='【事業主控】 (このシートに入力してください)'!N10 -> ９ | O10: ='【事業主控】 (このシートに入力してください)'!O10 -> ４ | P10: ='【事業主控】 (このシートに入力してください)'!P10 -> ６ | ... S10: ='【事業主控】 (このシートに入力してください)'!S10 -> ５ | T10: ='【事業主控】 (このシートに入力してください)'!T10:T12 -> 0 | U10: ='【事業主控】 (このシートに入力してください)'!U10:U12 -> 0 | V10: ='【事業主控】 (このシートに入力してください)'!V10:V12 -> 0
A13: 事 業 の 名 称 | I13: 事業場の所在地 | N13: 事 業 の 期 間 | U13: ① | X13: 請負金額の内訳 | AK13: ② | AM13: ③
U14: 請負代金の額 | Y14: 請負代金に 加算する額 | AC14: 請負代金から 控除する額 | AG14: 請負金額 | AK14: 労 務 費 率 | AM14: 賃 金 総 額
A16: ='【事業主控】 (このシートに入力してください)'!A16 -> 入力見本１ | I16: ='【事業主控】 (このシートに入力してください)'!I16:M17 -> 府中市入力町 | N16: ='【事業主控】 (このシートに入力してください)'!N16 -> 6 | O16: 年 | P16: ='【事業主控】 (このシートに入力してください)'!P16 -> 4 | Q16: 月 | R16: ='【事業主控】 (このシートに入力してください)'!R16 -> 1 | S16: 日から | AB16: 円 | AF16: 円 | AR16: 円
N17: ='【事業主控】 (このシートに入力してください)'!N17 -> 7 | O17: 年 | P17: ='【事業主控】 (このシートに入力してください)'!P17 -> 3 | Q17: 月 | R17: ='【事業主控】 (このシートに入力してください)'!R17 -> 31 | S17: 日まで | U17: ='【事業主控】 (このシートに入力してください)'!U17 -> 555555 | Y17: ='【事業主控】 (このシートに入力してください)'!Y17 -> 0 | AC17: ='【事業主控】 (このシートに入力してください)'!AC17 -> 0 | AG17: ='【事業主控】 (このシートに入力してください)'!AG17 -> 555555 | AK17: ='【事業主控】 (このシートに入力してください)'!AK17 -> 23 | AM17: ='【事業主控】 (このシートに入力してください)'!AM17 -> 127777
A18: ='【事業主控】 (このシートに入力してください)'!A18 -> 入力見本２ | I18: ='【事業主控】 (このシートに入力してください)'!I18:M19 -> 府中市見本町 | N18: ='【事業主控】 (このシートに入力してください)'!N18 -> 6 | O18: 年 | P18: ='【事業主控】 (このシートに入力してください)'!P18 -> 6 | Q18: 月 | R18: ='【事業主控】 (このシートに入力してください)'!R18 -> 1 | S18: 日から
N19: ='【事業主控】 (このシートに入力してください)'!N19 -> 6 | O19: 年 | P19: ='【事業主控】 (このシートに入力してください)'!P19 -> 12 | Q19: 月 | R19: ='【事業主控】 (このシートに入力してください)'!R19 -> 1 | S19: 日まで | U19: ='【事業主控】 (このシートに入力してください)'!U19 -> 333333 | Y19: ='【事業主控】 (このシートに入力してください)'!Y19 -> 0 | AC19: ='【事業主控】 (このシートに入力してください)'!AC19 -> 0 | AG19: ='【事業主控】 (このシートに入力してください)'!AG19 -> 333333 | AK19: ='【事業主控】 (このシートに入力してください)'!AK19 -> 23 | AM19: ='【事業主控】 (このシートに入力してください)'!AM19 -> 76666
A20: ='【事業主控】 (このシートに入力してください)'!A20 -> 0 | I20: ='【事業主控】 (このシートに入力してください)'!I20:M21 -> 0 | N20: ='【事業主控】 (このシートに入力してください)'!N20 -> 0 | O20: 年 | P20: ='【事業主控】 (このシートに入力してください)'!P20 -> 0 | Q20: 月 | R20: ='【事業主控】 (このシートに入力してください)'!R20 -> 0 | S20: 日から
N21: ='【事業主控】 (このシートに入力してください)'!N21 -> 0 | O21: 年 | P21: ='【事業主控】 (このシートに入力してください)'!P21 -> 0 | Q21: 月 | R21: ='【事業主控】 (このシートに入力してください)'!R21 -> 0 | S21: 日まで | U21: ='【事業主控】 (このシートに入力してください)'!U21 -> 0 | Y21: ='【事業主控】 (このシートに入力してください)'!Y21 -> 0 | AC21: ='【事業主控】 (このシートに入力してください)'!AC21 -> 0 | AG21: ='【事業主控】 (このシートに入力してください)'!AG21 -> 0 | AK21: ='【事業主控】 (このシートに入力してください)'!AK21 | AM21: ='【事業主控】 (このシートに入力してください)'!AM21
A22: ='【事業主控】 (このシートに入力してください)'!A22 -> 0 | I22: ='【事業主控】 (このシートに入力してください)'!I22:M23 -> 0 | N22: ='【事業主控】 (このシートに入力してください)'!N22 -> 0 | O22: 年 | P22: ='【事業主控】 (このシートに入力してください)'!P22 -> 0 | Q22: 月 | R22: ='【事業主控】 (このシートに入力してください)'!R22 -> 0 | S22: 日から
N23: ='【事業主控】 (このシートに入力してください)'!N23 -> 0 | O23: 年 | P23: ='【事業主控】 (このシートに入力してください)'!P23 -> 0 | Q23: 月 | R23: ='【事業主控】 (このシートに入力してください)'!R23 -> 0 | S23: 日まで | U23: ='【事業主控】 (このシートに入力してください)'!U23 -> 0 | Y23: ='【事業主控】 (このシートに入力してください)'!Y23 -> 0 | AC23: ='【事業主控】 (このシートに入力してください)'!AC23 -> 0 | AG23: ='【事業主控】 (このシートに入力してください)'!AG23 -> 0 | AK23: ='【事業主控】 (このシートに入力してください)'!AK23 | AM23: ='【事業主控】 (このシートに入力してください)'!AM23
A24: ='【事業主控】 (このシートに入力してください)'!A24 -> 0 | I24: ='【事業主控】 (このシートに入力してください)'!I24:M25 -> 0 | N24: ='【事業主控】 (このシートに入力してください)'!N24 -> 0 | O24: 年 | P24: ='【事業主控】 (このシートに入力してください)'!P24 -> 0 | Q24: 月 | R24: ='【事業主控】 (このシートに入力してください)'!R24 -> 0 | S24: 日から
N25: ='【事業主控】 (このシートに入力してください)'!N25 -> 0 | O25: 年 | P25: ='【事業主控】 (このシートに入力してください)'!P25 -> 0 | Q25: 月 | R25: ='【事業主控】 (このシートに入力してください)'!R25 -> 0 | S25: 日まで | U25: ='【事業主控】 (このシートに入力してください)'!U25 -> 0 | Y25: ='【事業主控】 (このシートに入力してください)'!Y25 -> 0 | AC25: ='【事業主控】 (このシートに入力してください)'!AC25 -> 0 | AG25: ='【事業主控】 (このシートに入力してください)'!AG25 -> 0 | AK25: ='【事業主控】 (このシートに入力してください)'!AK25 | AM25: ='【事業主控】 (このシートに入力してください)'!AM25
A26: 事業の種類 | E26: ='【事業主控】 (このシートに入力してください)'!E26:M27 -> 37 その他の建設事業 | N26: 計
U27: =U17+U19+U21+U23+U25 -> 888888 | Y27: =Y17+Y19+Y21+Y23+Y25 -> 0 | AC27: =AC17+AC19+AC21+AC23+AC25 -> 0 | AG27: ='【事業主控】 (このシートに入力してください)'!AG27 -> 888888 | AM27: ='【事業主控】 (このシートに入力してください)'!AM27 -> 204443
C28: 前年度中（保険関係が消滅した日まで）に廃止又は終了があったそれぞれの事業の明細を上記のとおり報告します。
AH29: 郵便番号（ | AI29: ='【事業主控】 (このシートに入力してください)'!AI29 -> 0 | AL29: - | AN29: ='【事業主控】 (このシートに入力してください)'!AN29 -> 0 | AR29: )
C30: ='【事業主控】 (このシートに入力してください)'!C30 -> 8 | E30: 年 | F30: ='【事業主控】 (このシートに入力してください)'!F30 -> 0 | H30: 月 | I30: ='【事業主控】 (このシートに入力してください)'!I30 -> 0 | K30: 日 | AH30: 電話番号（ | AI30: ='【事業主控】 (このシートに入力してください)'!AI30 -> 0 | AK30: - | AL30: ='【事業主控】 (このシートに入力してください)'!AL30 -> 0 | AN30: - | AO30: ='【事業主控】 (このシートに入力してください)'!AO30 -> 0 | AR30: )
Z31: 住 所 | AB31: ='【事業主控】 (このシートに入力してください)'!AB31 -> 0
W32: 事 業 主 | AB32: ='【事業主控】 (このシートに入力してください)'!AB32 -> 0
C33: 広島 | G33: 労働局労働保険特別会計歳入徴収官 殿 | Z33: 氏 名 | AB33: ='【事業主控】 (このシートに入力してください)'!AB33 -> 0
AC34: （法人のときはその名称及び代表者の氏名）
C35: 〔注意〕 | Z35: 社会保険 労務士 記載欄 | AB35: 作 成 年 月 日 ・ 提 出 代 行 者 ・ 事務代理者の表示 | AI35: 氏名 | AO35: 電話番号
C36: 社会保険労務士記載欄は、この報告書を社会保険労務士が作成した場合のみ記載すること。
A41: 様式第７号（第34条関係） （甲） 〔別紙〕
AO42: 提出用
A46: 労 働 保 険 番 号 | I46: 府 県 | K46: 所掌 | L46: 管 轄 | N46: 基 幹 番 号 | T46: 枝 番 号 | AK46: ='【事業主控】 (このシートに入力してください)'!AK46 -> 1 | AM46: 枚のうち | AO46: 2 | AQ46: 枚目
I47: =I10 -> ３ | J47: =J10 -> ４ | K47: =K10 -> １ | L47: =L10 -> ０ | M47: =M10 -> ３ | N47: =N10 -> ９ | O47: =O10 -> ４ | P47: =P10 -> ６ | ... V47: =V10 -> 0
A50: 事 業 の 名 称 | I50: 事業場の所在地 | N50: 事 業 の 期 間 | U50: ① | X50: 請負金額の内訳 | AK50: ② | AM50: ③
U51: 請負代金の額 | Y51: 請負代金に 加算する額 | AC51: 請負代金から 控除する額 | AG51: 請負金額 | AK51: 労 務 比 率 | AM51: 賃 金 総 額
A53: ='【事業主控】 (このシートに入力してください)'!A53 -> 0 | I53: ='【事業主控】 (このシートに入力してください)'!I53 -> 0 | N53: ='【事業主控】 (このシートに入力してください)'!N53 -> 0 | O53: 年 | P53: ='【事業主控】 (このシートに入力してください)'!P53 -> 0 | Q53: 月 | R53: ='【事業主控】 (このシートに入力してください)'!R53 -> 0 | S53: 日から | X53: 円 | AB53: 円 | AF53: 円 | AR53: 円
N54: ='【事業主控】 (このシートに入力してください)'!N54 -> 0 | O54: 年 | P54: ='【事業主控】 (このシートに入力してください)'!P54 -> 0 | Q54: 月 | R54: ='【事業主控】 (このシートに入力してください)'!R54 -> 0 | S54: 日まで | U54: ='【事業主控】 (このシートに入力してください)'!U54 -> 0 | Y54: ='【事業主控】 (このシートに入力してください)'!Y54 -> 0 | AC54: ='【事業主控】 (このシートに入力してください)'!AC54 -> 0 | AG54: ='【事業主控】 (このシートに入力してください)'!AG54 -> 0 | AK54: ='【事業主控】 (このシートに入力してください)'!AK54 | AM54: ='【事業主控】 (このシートに入力してください)'!AM54
A55: ='【事業主控】 (このシートに入力してください)'!A55 -> 0 | I55: ='【事業主控】 (このシートに入力してください)'!I55 -> 0 | N55: ='【事業主控】 (このシートに入力してください)'!N55 -> 0 | O55: 年 | P55: ='【事業主控】 (このシートに入力してください)'!P55 -> 0 | Q55: 月 | R55: ='【事業主控】 (このシートに入力してください)'!R55 -> 0 | S55: 日から
N56: ='【事業主控】 (このシートに入力してください)'!N56 -> 0 | O56: 年 | P56: ='【事業主控】 (このシートに入力してください)'!P56 -> 0 | Q56: 月 | R56: ='【事業主控】 (このシートに入力してください)'!R56 -> 0 | S56: 日まで | U56: ='【事業主控】 (このシートに入力してください)'!U56 -> 0 | Y56: ='【事業主控】 (このシートに入力してください)'!Y56 -> 0 | AC56: ='【事業主控】 (このシートに入力してください)'!AC56 -> 0 | AG56: ='【事業主控】 (このシートに入力してください)'!AG56 -> 0 | AK56: ='【事業主控】 (このシートに入力してください)'!AK56 | AM56: ='【事業主控】 (このシートに入力してください)'!AM56
A57: ='【事業主控】 (このシートに入力してください)'!A57 -> 0 | I57: ='【事業主控】 (このシートに入力してください)'!I57 -> 0 | N57: ='【事業主控】 (このシートに入力してください)'!N57 -> 0 | O57: 年 | P57: ='【事業主控】 (このシートに入力してください)'!P57 -> 0 | Q57: 月 | R57: ='【事業主控】 (このシートに入力してください)'!R57 -> 0 | S57: 日から
N58: ='【事業主控】 (このシートに入力してください)'!N58 -> 0 | O58: 年 | P58: ='【事業主控】 (このシートに入力してください)'!P58 -> 0 | Q58: 月 | R58: ='【事業主控】 (このシートに入力してください)'!R58 -> 0 | S58: 日まで | U58: ='【事業主控】 (このシートに入力してください)'!U58 -> 0 | Y58: ='【事業主控】 (このシートに入力してください)'!Y58 -> 0 | AC58: ='【事業主控】 (このシートに入力してください)'!AC58 -> 0 | AG58: ='【事業主控】 (このシートに入力してください)'!AG58 -> 0 | AK58: ='【事業主控】 (このシートに入力してください)'!AK58 | AM58: ='【事業主控】 (このシートに入力してください)'!AM58
A59: ='【事業主控】 (このシートに入力してください)'!A59 -> 0 | I59: ='【事業主控】 (このシートに入力してください)'!I59 -> 0 | N59: ='【事業主控】 (このシートに入力してください)'!N59 -> 0 | O59: 年 | P59: ='【事業主控】 (このシートに入力してください)'!P59 -> 0 | Q59: 月 | R59: ='【事業主控】 (このシートに入力してください)'!R59 -> 0 | S59: 日から
...

Sheet 労務費率表
A1: 建設事業 労務費率表
D2: https://www.mhlw.go.jp/content/roumuhiritu_r05.pdf
A4: 事業の種類の分類 | B4: 業種 番号 | C4: 事業の種類 | D4: 労務費率
A5: 建設事業 | B5: 31 | C5: 31 水力発電施設、随道等新設事業 | D5: 19
B6: 32 | C6: 32 道路新設事業 | D6: 19
B7: 33 | C7: 33 舗装工事業 | D7: 17
B8: 34 | C8: 34 鉄道又は軌道新設事業 | D8: 19
B9: 35 | C9: 35 建築事業 （既設建築物設備工事業を除く） | D9: 23
B10: 38 | C10: 38 既設建築物設備工事業 | D10: 23
B11: 36 | C11: 36 機械装置の組立て又は据付けの事業 【組立て又は取付けに関するもの】 | D11: 38
C12: 36 機械装置の組立て又は据付けの事業 【その他のもの】 | D12: 21
B13: 37 | C13: 37 その他の建設事業 | D13: 23
B14: 0 | C14: 00 元請工事なし | D14: 0
